BEGIN:VCALENDAR
VERSION:2.0
PRODID:-//Missoula Conservation District - ECPv6.15.20//NONSGML v1.0//EN
CALSCALE:GREGORIAN
METHOD:PUBLISH
X-WR-CALNAME:Missoula Conservation District
X-ORIGINAL-URL:https://missoulacd.org
X-WR-CALDESC:Events for Missoula Conservation District
REFRESH-INTERVAL;VALUE=DURATION:PT1H
X-Robots-Tag:noindex
X-PUBLISHED-TTL:PT1H
BEGIN:VTIMEZONE
TZID:America/Denver
BEGIN:DAYLIGHT
TZOFFSETFROM:-0700
TZOFFSETTO:-0600
TZNAME:MDT
DTSTART:20250309T090000
END:DAYLIGHT
BEGIN:STANDARD
TZOFFSETFROM:-0600
TZOFFSETTO:-0700
TZNAME:MST
DTSTART:20251102T080000
END:STANDARD
BEGIN:DAYLIGHT
TZOFFSETFROM:-0700
TZOFFSETTO:-0600
TZNAME:MDT
DTSTART:20260308T090000
END:DAYLIGHT
BEGIN:STANDARD
TZOFFSETFROM:-0600
TZOFFSETTO:-0700
TZNAME:MST
DTSTART:20261101T080000
END:STANDARD
BEGIN:DAYLIGHT
TZOFFSETFROM:-0700
TZOFFSETTO:-0600
TZNAME:MDT
DTSTART:20270314T090000
END:DAYLIGHT
BEGIN:STANDARD
TZOFFSETFROM:-0600
TZOFFSETTO:-0700
TZNAME:MST
DTSTART:20271107T080000
END:STANDARD
END:VTIMEZONE
BEGIN:VEVENT
DTSTART;TZID=America/Denver:20260406T080000
DTEND;TZID=America/Denver:20260406T170000
DTSTAMP:20260423T022353
CREATED:20240305T211457Z
LAST-MODIFIED:20240305T211457Z
UID:10000159-1775462400-1775494800@missoulacd.org
SUMMARY:Monthly Board Meeting Agenda Deadline
DESCRIPTION:
URL:https://missoulacd.org/event/monthly-board-meeting-agenda-deadline/2026-04-06/
END:VEVENT
BEGIN:VEVENT
DTSTART;TZID=America/Denver:20260413T173000
DTEND;TZID=America/Denver:20260413T213000
DTSTAMP:20260423T022353
CREATED:20240222T003546Z
LAST-MODIFIED:20240222T003634Z
UID:10000090-1776101400-1776115800@missoulacd.org
SUMMARY:Monthly Board Meeting - NEW TIME
DESCRIPTION:The Missoula Conservation District Board normally meets the second Monday of the month. Beginning on March 11\, 2024\, the Board meetings will begin at 5:30pm.
URL:https://missoulacd.org/event/monthly-board-meeting-2/2026-04-13/
LOCATION:Clover Board Room in G. Marks Exploration Center\, 1075 South Ave. W\, Missoula\, MT\, 59801
END:VEVENT
BEGIN:VEVENT
DTSTART;TZID=America/Denver:20260425T100000
DTEND;TZID=America/Denver:20260425T140000
DTSTAMP:20260423T022353
CREATED:20260421T190825Z
LAST-MODIFIED:20260421T190825Z
UID:10000293-1777111200-1777125600@missoulacd.org
SUMMARY:Phlox Fest
DESCRIPTION:
URL:https://missoulacd.org/event/phlox-fest/
END:VEVENT
BEGIN:VEVENT
DTSTART;TZID=America/Denver:20260427T080000
DTEND;TZID=America/Denver:20260427T170000
DTSTAMP:20260423T022353
CREATED:20240305T211842Z
LAST-MODIFIED:20240305T211842Z
UID:10000220-1777276800-1777309200@missoulacd.org
SUMMARY:310 Permit Application Site Inspection Deadline
DESCRIPTION:
URL:https://missoulacd.org/event/310-permit-application-site-inspection-deadline/2026-04-27/
END:VEVENT
BEGIN:VEVENT
DTSTART;TZID=America/Denver:20260504T080000
DTEND;TZID=America/Denver:20260504T170000
DTSTAMP:20260423T022353
CREATED:20240305T211457Z
LAST-MODIFIED:20240305T211457Z
UID:10000160-1777881600-1777914000@missoulacd.org
SUMMARY:Monthly Board Meeting Agenda Deadline
DESCRIPTION:
URL:https://missoulacd.org/event/monthly-board-meeting-agenda-deadline/2026-05-04/
END:VEVENT
BEGIN:VEVENT
DTSTART;TZID=America/Denver:20260505T180000
DTEND;TZID=America/Denver:20260505T193000
DTSTAMP:20260423T022353
CREATED:20260421T191121Z
LAST-MODIFIED:20260421T191121Z
UID:10000294-1778004000-1778009400@missoulacd.org
SUMMARY:Lolo Watershed Group Speaker Series: Conservation Yard Care
DESCRIPTION:Presenter: Radley Watkins\, Executive Director\, Missoula Conservation District
URL:https://missoulacd.org/event/lolo-watershed-group-speaker-series-conservation-yard-care/
LOCATION:Lolo Community Center
END:VEVENT
BEGIN:VEVENT
DTSTART;TZID=America/Denver:20260511T173000
DTEND;TZID=America/Denver:20260511T213000
DTSTAMP:20260423T022353
CREATED:20240222T003546Z
LAST-MODIFIED:20240222T003634Z
UID:10000091-1778520600-1778535000@missoulacd.org
SUMMARY:Monthly Board Meeting - NEW TIME
DESCRIPTION:The Missoula Conservation District Board normally meets the second Monday of the month. Beginning on March 11\, 2024\, the Board meetings will begin at 5:30pm.
URL:https://missoulacd.org/event/monthly-board-meeting-2/2026-05-11/
LOCATION:Clover Board Room in G. Marks Exploration Center\, 1075 South Ave. W\, Missoula\, MT\, 59801
END:VEVENT
BEGIN:VEVENT
DTSTART;TZID=America/Denver:20260519T180000
DTEND;TZID=America/Denver:20260519T193000
DTSTAMP:20260423T022353
CREATED:20260421T191508Z
LAST-MODIFIED:20260421T191508Z
UID:10000295-1779213600-1779219000@missoulacd.org
SUMMARY:Riparian Care for Rattlesnake Creekside Residents
DESCRIPTION:Do you live right along Rattlesnake Creek? Learn how your care helps protect water quality\, improve fish habitat\, and respond to climate change.  Hear from MCD staff and a local landowner about creekside care\, riparian vegetation planting\, helpful resources\, and lessons learned. The workshop is free. Space is limited. To sign up\, send your name\, contact info\, number in your group\, and where you live along the creek to rattlesnakecreek.watershedgroup@gmail.com.  We will follow up with details closer to the date.
URL:https://missoulacd.org/event/riparian-care-for-rattlesnake-creekside-residents/
END:VEVENT
BEGIN:VEVENT
DTSTART;TZID=America/Denver:20260525T080000
DTEND;TZID=America/Denver:20260525T170000
DTSTAMP:20260423T022353
CREATED:20240305T211842Z
LAST-MODIFIED:20240305T211842Z
UID:10000221-1779696000-1779728400@missoulacd.org
SUMMARY:310 Permit Application Site Inspection Deadline
DESCRIPTION:
URL:https://missoulacd.org/event/310-permit-application-site-inspection-deadline/2026-05-25/
END:VEVENT
BEGIN:VEVENT
DTSTART;TZID=America/Denver:20260601T080000
DTEND;TZID=America/Denver:20260601T170000
DTSTAMP:20260423T022353
CREATED:20240305T211457Z
LAST-MODIFIED:20240305T211457Z
UID:10000161-1780300800-1780333200@missoulacd.org
SUMMARY:Monthly Board Meeting Agenda Deadline
DESCRIPTION:
URL:https://missoulacd.org/event/monthly-board-meeting-agenda-deadline/2026-06-01/
END:VEVENT
BEGIN:VEVENT
DTSTART;TZID=America/Denver:20260608T173000
DTEND;TZID=America/Denver:20260608T213000
DTSTAMP:20260423T022353
CREATED:20240222T003546Z
LAST-MODIFIED:20240222T003634Z
UID:10000092-1780939800-1780954200@missoulacd.org
SUMMARY:Monthly Board Meeting - NEW TIME
DESCRIPTION:The Missoula Conservation District Board normally meets the second Monday of the month. Beginning on March 11\, 2024\, the Board meetings will begin at 5:30pm.
URL:https://missoulacd.org/event/monthly-board-meeting-2/2026-06-08/
LOCATION:Clover Board Room in G. Marks Exploration Center\, 1075 South Ave. W\, Missoula\, MT\, 59801
END:VEVENT
BEGIN:VEVENT
DTSTART;TZID=America/Denver:20260622T080000
DTEND;TZID=America/Denver:20260622T170000
DTSTAMP:20260423T022353
CREATED:20240305T211842Z
LAST-MODIFIED:20240305T211842Z
UID:10000222-1782115200-1782147600@missoulacd.org
SUMMARY:310 Permit Application Site Inspection Deadline
DESCRIPTION:
URL:https://missoulacd.org/event/310-permit-application-site-inspection-deadline/2026-06-22/
END:VEVENT
BEGIN:VEVENT
DTSTART;TZID=America/Denver:20260706T080000
DTEND;TZID=America/Denver:20260706T170000
DTSTAMP:20260423T022353
CREATED:20240305T211457Z
LAST-MODIFIED:20240305T211457Z
UID:10000162-1783324800-1783357200@missoulacd.org
SUMMARY:Monthly Board Meeting Agenda Deadline
DESCRIPTION:
URL:https://missoulacd.org/event/monthly-board-meeting-agenda-deadline/2026-07-06/
END:VEVENT
BEGIN:VEVENT
DTSTART;TZID=America/Denver:20260713T173000
DTEND;TZID=America/Denver:20260713T213000
DTSTAMP:20260423T022353
CREATED:20240222T003546Z
LAST-MODIFIED:20240222T003634Z
UID:10000093-1783963800-1783978200@missoulacd.org
SUMMARY:Monthly Board Meeting - NEW TIME
DESCRIPTION:The Missoula Conservation District Board normally meets the second Monday of the month. Beginning on March 11\, 2024\, the Board meetings will begin at 5:30pm.
URL:https://missoulacd.org/event/monthly-board-meeting-2/2026-07-13/
LOCATION:Clover Board Room in G. Marks Exploration Center\, 1075 South Ave. W\, Missoula\, MT\, 59801
END:VEVENT
BEGIN:VEVENT
DTSTART;TZID=America/Denver:20260727T080000
DTEND;TZID=America/Denver:20260727T170000
DTSTAMP:20260423T022353
CREATED:20240305T211842Z
LAST-MODIFIED:20240305T211842Z
UID:10000223-1785139200-1785171600@missoulacd.org
SUMMARY:310 Permit Application Site Inspection Deadline
DESCRIPTION:
URL:https://missoulacd.org/event/310-permit-application-site-inspection-deadline/2026-07-27/
END:VEVENT
BEGIN:VEVENT
DTSTART;TZID=America/Denver:20260803T080000
DTEND;TZID=America/Denver:20260803T170000
DTSTAMP:20260423T022353
CREATED:20240305T211457Z
LAST-MODIFIED:20240305T211457Z
UID:10000163-1785744000-1785776400@missoulacd.org
SUMMARY:Monthly Board Meeting Agenda Deadline
DESCRIPTION:
URL:https://missoulacd.org/event/monthly-board-meeting-agenda-deadline/2026-08-03/
END:VEVENT
BEGIN:VEVENT
DTSTART;TZID=America/Denver:20260810T173000
DTEND;TZID=America/Denver:20260810T213000
DTSTAMP:20260423T022353
CREATED:20240222T003546Z
LAST-MODIFIED:20240222T003634Z
UID:10000094-1786383000-1786397400@missoulacd.org
SUMMARY:Monthly Board Meeting - NEW TIME
DESCRIPTION:The Missoula Conservation District Board normally meets the second Monday of the month. Beginning on March 11\, 2024\, the Board meetings will begin at 5:30pm.
URL:https://missoulacd.org/event/monthly-board-meeting-2/2026-08-10/
LOCATION:Clover Board Room in G. Marks Exploration Center\, 1075 South Ave. W\, Missoula\, MT\, 59801
END:VEVENT
BEGIN:VEVENT
DTSTART;TZID=America/Denver:20260824T080000
DTEND;TZID=America/Denver:20260824T170000
DTSTAMP:20260423T022353
CREATED:20240305T211842Z
LAST-MODIFIED:20240305T211842Z
UID:10000224-1787558400-1787590800@missoulacd.org
SUMMARY:310 Permit Application Site Inspection Deadline
DESCRIPTION:
URL:https://missoulacd.org/event/310-permit-application-site-inspection-deadline/2026-08-24/
END:VEVENT
BEGIN:VEVENT
DTSTART;TZID=America/Denver:20260907T080000
DTEND;TZID=America/Denver:20260907T170000
DTSTAMP:20260423T022353
CREATED:20240305T211457Z
LAST-MODIFIED:20240305T211457Z
UID:10000164-1788768000-1788800400@missoulacd.org
SUMMARY:Monthly Board Meeting Agenda Deadline
DESCRIPTION:
URL:https://missoulacd.org/event/monthly-board-meeting-agenda-deadline/2026-09-07/
END:VEVENT
BEGIN:VEVENT
DTSTART;TZID=America/Denver:20260914T173000
DTEND;TZID=America/Denver:20260914T213000
DTSTAMP:20260423T022353
CREATED:20240222T003546Z
LAST-MODIFIED:20240222T003634Z
UID:10000095-1789407000-1789421400@missoulacd.org
SUMMARY:Monthly Board Meeting - NEW TIME
DESCRIPTION:The Missoula Conservation District Board normally meets the second Monday of the month. Beginning on March 11\, 2024\, the Board meetings will begin at 5:30pm.
URL:https://missoulacd.org/event/monthly-board-meeting-2/2026-09-14/
LOCATION:Clover Board Room in G. Marks Exploration Center\, 1075 South Ave. W\, Missoula\, MT\, 59801
END:VEVENT
BEGIN:VEVENT
DTSTART;TZID=America/Denver:20260928T080000
DTEND;TZID=America/Denver:20260928T170000
DTSTAMP:20260423T022353
CREATED:20240305T211842Z
LAST-MODIFIED:20240305T211842Z
UID:10000225-1790582400-1790614800@missoulacd.org
SUMMARY:310 Permit Application Site Inspection Deadline
DESCRIPTION:
URL:https://missoulacd.org/event/310-permit-application-site-inspection-deadline/2026-09-28/
END:VEVENT
BEGIN:VEVENT
DTSTART;TZID=America/Denver:20261005T080000
DTEND;TZID=America/Denver:20261005T170000
DTSTAMP:20260423T022353
CREATED:20240305T211457Z
LAST-MODIFIED:20240305T211457Z
UID:10000165-1791187200-1791219600@missoulacd.org
SUMMARY:Monthly Board Meeting Agenda Deadline
DESCRIPTION:
URL:https://missoulacd.org/event/monthly-board-meeting-agenda-deadline/2026-10-05/
END:VEVENT
BEGIN:VEVENT
DTSTART;TZID=America/Denver:20261012T173000
DTEND;TZID=America/Denver:20261012T213000
DTSTAMP:20260423T022353
CREATED:20240222T003546Z
LAST-MODIFIED:20240222T003634Z
UID:10000096-1791826200-1791840600@missoulacd.org
SUMMARY:Monthly Board Meeting - NEW TIME
DESCRIPTION:The Missoula Conservation District Board normally meets the second Monday of the month. Beginning on March 11\, 2024\, the Board meetings will begin at 5:30pm.
URL:https://missoulacd.org/event/monthly-board-meeting-2/2026-10-12/
LOCATION:Clover Board Room in G. Marks Exploration Center\, 1075 South Ave. W\, Missoula\, MT\, 59801
END:VEVENT
BEGIN:VEVENT
DTSTART;TZID=America/Denver:20261026T080000
DTEND;TZID=America/Denver:20261026T170000
DTSTAMP:20260423T022353
CREATED:20240305T211842Z
LAST-MODIFIED:20240305T211842Z
UID:10000226-1793001600-1793034000@missoulacd.org
SUMMARY:310 Permit Application Site Inspection Deadline
DESCRIPTION:
URL:https://missoulacd.org/event/310-permit-application-site-inspection-deadline/2026-10-26/
END:VEVENT
BEGIN:VEVENT
DTSTART;TZID=America/Denver:20261102T080000
DTEND;TZID=America/Denver:20261102T170000
DTSTAMP:20260423T022353
CREATED:20240305T211457Z
LAST-MODIFIED:20240305T211457Z
UID:10000166-1793606400-1793638800@missoulacd.org
SUMMARY:Monthly Board Meeting Agenda Deadline
DESCRIPTION:
URL:https://missoulacd.org/event/monthly-board-meeting-agenda-deadline/2026-11-02/
END:VEVENT
BEGIN:VEVENT
DTSTART;TZID=America/Denver:20261109T173000
DTEND;TZID=America/Denver:20261109T213000
DTSTAMP:20260423T022353
CREATED:20240222T003546Z
LAST-MODIFIED:20240222T003634Z
UID:10000097-1794245400-1794259800@missoulacd.org
SUMMARY:Monthly Board Meeting - NEW TIME
DESCRIPTION:The Missoula Conservation District Board normally meets the second Monday of the month. Beginning on March 11\, 2024\, the Board meetings will begin at 5:30pm.
URL:https://missoulacd.org/event/monthly-board-meeting-2/2026-11-09/
LOCATION:Clover Board Room in G. Marks Exploration Center\, 1075 South Ave. W\, Missoula\, MT\, 59801
END:VEVENT
BEGIN:VEVENT
DTSTART;TZID=America/Denver:20261123T080000
DTEND;TZID=America/Denver:20261123T170000
DTSTAMP:20260423T022353
CREATED:20240305T211842Z
LAST-MODIFIED:20240305T211842Z
UID:10000227-1795420800-1795453200@missoulacd.org
SUMMARY:310 Permit Application Site Inspection Deadline
DESCRIPTION:
URL:https://missoulacd.org/event/310-permit-application-site-inspection-deadline/2026-11-23/
END:VEVENT
BEGIN:VEVENT
DTSTART;TZID=America/Denver:20261207T080000
DTEND;TZID=America/Denver:20261207T170000
DTSTAMP:20260423T022353
CREATED:20240305T211457Z
LAST-MODIFIED:20240305T211457Z
UID:10000167-1796630400-1796662800@missoulacd.org
SUMMARY:Monthly Board Meeting Agenda Deadline
DESCRIPTION:
URL:https://missoulacd.org/event/monthly-board-meeting-agenda-deadline/2026-12-07/
END:VEVENT
BEGIN:VEVENT
DTSTART;TZID=America/Denver:20261214T173000
DTEND;TZID=America/Denver:20261214T213000
DTSTAMP:20260423T022353
CREATED:20240222T003546Z
LAST-MODIFIED:20240222T003634Z
UID:10000098-1797269400-1797283800@missoulacd.org
SUMMARY:Monthly Board Meeting - NEW TIME
DESCRIPTION:The Missoula Conservation District Board normally meets the second Monday of the month. Beginning on March 11\, 2024\, the Board meetings will begin at 5:30pm.
URL:https://missoulacd.org/event/monthly-board-meeting-2/2026-12-14/
LOCATION:Clover Board Room in G. Marks Exploration Center\, 1075 South Ave. W\, Missoula\, MT\, 59801
END:VEVENT
BEGIN:VEVENT
DTSTART;TZID=America/Denver:20261228T080000
DTEND;TZID=America/Denver:20261228T170000
DTSTAMP:20260423T022353
CREATED:20240305T211842Z
LAST-MODIFIED:20240305T211842Z
UID:10000228-1798444800-1798477200@missoulacd.org
SUMMARY:310 Permit Application Site Inspection Deadline
DESCRIPTION:
URL:https://missoulacd.org/event/310-permit-application-site-inspection-deadline/2026-12-28/
END:VEVENT
END:VCALENDAR