BEGIN:VCALENDAR
VERSION:2.0
PRODID:-//Missoula Conservation District - ECPv6.15.20//NONSGML v1.0//EN
CALSCALE:GREGORIAN
METHOD:PUBLISH
X-WR-CALNAME:Missoula Conservation District
X-ORIGINAL-URL:https://missoulacd.org
X-WR-CALDESC:Events for Missoula Conservation District
REFRESH-INTERVAL;VALUE=DURATION:PT1H
X-Robots-Tag:noindex
X-PUBLISHED-TTL:PT1H
BEGIN:VTIMEZONE
TZID:America/Denver
BEGIN:DAYLIGHT
TZOFFSETFROM:-0700
TZOFFSETTO:-0600
TZNAME:MDT
DTSTART:20250309T090000
END:DAYLIGHT
BEGIN:STANDARD
TZOFFSETFROM:-0600
TZOFFSETTO:-0700
TZNAME:MST
DTSTART:20251102T080000
END:STANDARD
BEGIN:DAYLIGHT
TZOFFSETFROM:-0700
TZOFFSETTO:-0600
TZNAME:MDT
DTSTART:20260308T090000
END:DAYLIGHT
BEGIN:STANDARD
TZOFFSETFROM:-0600
TZOFFSETTO:-0700
TZNAME:MST
DTSTART:20261101T080000
END:STANDARD
BEGIN:DAYLIGHT
TZOFFSETFROM:-0700
TZOFFSETTO:-0600
TZNAME:MDT
DTSTART:20270314T090000
END:DAYLIGHT
BEGIN:STANDARD
TZOFFSETFROM:-0600
TZOFFSETTO:-0700
TZNAME:MST
DTSTART:20271107T080000
END:STANDARD
BEGIN:DAYLIGHT
TZOFFSETFROM:-0700
TZOFFSETTO:-0600
TZNAME:MDT
DTSTART:20280312T090000
END:DAYLIGHT
BEGIN:STANDARD
TZOFFSETFROM:-0600
TZOFFSETTO:-0700
TZNAME:MST
DTSTART:20281105T080000
END:STANDARD
END:VTIMEZONE
BEGIN:VEVENT
DTSTART;TZID=America/Denver:20261102T080000
DTEND;TZID=America/Denver:20261102T170000
DTSTAMP:20260423T062942
CREATED:20240305T211457Z
LAST-MODIFIED:20240305T211457Z
UID:10000166-1793606400-1793638800@missoulacd.org
SUMMARY:Monthly Board Meeting Agenda Deadline
DESCRIPTION:
URL:https://missoulacd.org/event/monthly-board-meeting-agenda-deadline/2026-11-02/
END:VEVENT
BEGIN:VEVENT
DTSTART;TZID=America/Denver:20261109T173000
DTEND;TZID=America/Denver:20261109T213000
DTSTAMP:20260423T062942
CREATED:20240222T003546Z
LAST-MODIFIED:20240222T003634Z
UID:10000097-1794245400-1794259800@missoulacd.org
SUMMARY:Monthly Board Meeting - NEW TIME
DESCRIPTION:The Missoula Conservation District Board normally meets the second Monday of the month. Beginning on March 11\, 2024\, the Board meetings will begin at 5:30pm.
URL:https://missoulacd.org/event/monthly-board-meeting-2/2026-11-09/
LOCATION:Clover Board Room in G. Marks Exploration Center\, 1075 South Ave. W\, Missoula\, MT\, 59801
END:VEVENT
BEGIN:VEVENT
DTSTART;TZID=America/Denver:20261123T080000
DTEND;TZID=America/Denver:20261123T170000
DTSTAMP:20260423T062942
CREATED:20240305T211842Z
LAST-MODIFIED:20240305T211842Z
UID:10000227-1795420800-1795453200@missoulacd.org
SUMMARY:310 Permit Application Site Inspection Deadline
DESCRIPTION:
URL:https://missoulacd.org/event/310-permit-application-site-inspection-deadline/2026-11-23/
END:VEVENT
BEGIN:VEVENT
DTSTART;TZID=America/Denver:20261207T080000
DTEND;TZID=America/Denver:20261207T170000
DTSTAMP:20260423T062942
CREATED:20240305T211457Z
LAST-MODIFIED:20240305T211457Z
UID:10000167-1796630400-1796662800@missoulacd.org
SUMMARY:Monthly Board Meeting Agenda Deadline
DESCRIPTION:
URL:https://missoulacd.org/event/monthly-board-meeting-agenda-deadline/2026-12-07/
END:VEVENT
BEGIN:VEVENT
DTSTART;TZID=America/Denver:20261214T173000
DTEND;TZID=America/Denver:20261214T213000
DTSTAMP:20260423T062942
CREATED:20240222T003546Z
LAST-MODIFIED:20240222T003634Z
UID:10000098-1797269400-1797283800@missoulacd.org
SUMMARY:Monthly Board Meeting - NEW TIME
DESCRIPTION:The Missoula Conservation District Board normally meets the second Monday of the month. Beginning on March 11\, 2024\, the Board meetings will begin at 5:30pm.
URL:https://missoulacd.org/event/monthly-board-meeting-2/2026-12-14/
LOCATION:Clover Board Room in G. Marks Exploration Center\, 1075 South Ave. W\, Missoula\, MT\, 59801
END:VEVENT
BEGIN:VEVENT
DTSTART;TZID=America/Denver:20261228T080000
DTEND;TZID=America/Denver:20261228T170000
DTSTAMP:20260423T062942
CREATED:20240305T211842Z
LAST-MODIFIED:20240305T211842Z
UID:10000228-1798444800-1798477200@missoulacd.org
SUMMARY:310 Permit Application Site Inspection Deadline
DESCRIPTION:
URL:https://missoulacd.org/event/310-permit-application-site-inspection-deadline/2026-12-28/
END:VEVENT
BEGIN:VEVENT
DTSTART;TZID=America/Denver:20270104T080000
DTEND;TZID=America/Denver:20270104T170000
DTSTAMP:20260423T062942
CREATED:20240305T211457Z
LAST-MODIFIED:20240305T211457Z
UID:10000168-1799049600-1799082000@missoulacd.org
SUMMARY:Monthly Board Meeting Agenda Deadline
DESCRIPTION:
URL:https://missoulacd.org/event/monthly-board-meeting-agenda-deadline/2027-01-04/
END:VEVENT
BEGIN:VEVENT
DTSTART;TZID=America/Denver:20270111T173000
DTEND;TZID=America/Denver:20270111T213000
DTSTAMP:20260423T062942
CREATED:20240222T003546Z
LAST-MODIFIED:20240222T003634Z
UID:10000099-1799688600-1799703000@missoulacd.org
SUMMARY:Monthly Board Meeting - NEW TIME
DESCRIPTION:The Missoula Conservation District Board normally meets the second Monday of the month. Beginning on March 11\, 2024\, the Board meetings will begin at 5:30pm.
URL:https://missoulacd.org/event/monthly-board-meeting-2/2027-01-11/
LOCATION:Clover Board Room in G. Marks Exploration Center\, 1075 South Ave. W\, Missoula\, MT\, 59801
END:VEVENT
BEGIN:VEVENT
DTSTART;TZID=America/Denver:20270125T080000
DTEND;TZID=America/Denver:20270125T170000
DTSTAMP:20260423T062942
CREATED:20240305T211842Z
LAST-MODIFIED:20240305T211842Z
UID:10000229-1800864000-1800896400@missoulacd.org
SUMMARY:310 Permit Application Site Inspection Deadline
DESCRIPTION:
URL:https://missoulacd.org/event/310-permit-application-site-inspection-deadline/2027-01-25/
END:VEVENT
BEGIN:VEVENT
DTSTART;TZID=America/Denver:20270201T080000
DTEND;TZID=America/Denver:20270201T170000
DTSTAMP:20260423T062942
CREATED:20240305T211457Z
LAST-MODIFIED:20240305T211457Z
UID:10000169-1801468800-1801501200@missoulacd.org
SUMMARY:Monthly Board Meeting Agenda Deadline
DESCRIPTION:
URL:https://missoulacd.org/event/monthly-board-meeting-agenda-deadline/2027-02-01/
END:VEVENT
BEGIN:VEVENT
DTSTART;TZID=America/Denver:20270208T173000
DTEND;TZID=America/Denver:20270208T213000
DTSTAMP:20260423T062942
CREATED:20240222T003546Z
LAST-MODIFIED:20240222T003634Z
UID:10000100-1802107800-1802122200@missoulacd.org
SUMMARY:Monthly Board Meeting - NEW TIME
DESCRIPTION:The Missoula Conservation District Board normally meets the second Monday of the month. Beginning on March 11\, 2024\, the Board meetings will begin at 5:30pm.
URL:https://missoulacd.org/event/monthly-board-meeting-2/2027-02-08/
LOCATION:Clover Board Room in G. Marks Exploration Center\, 1075 South Ave. W\, Missoula\, MT\, 59801
END:VEVENT
BEGIN:VEVENT
DTSTART;TZID=America/Denver:20270222T080000
DTEND;TZID=America/Denver:20270222T170000
DTSTAMP:20260423T062942
CREATED:20240305T211842Z
LAST-MODIFIED:20240305T211842Z
UID:10000230-1803283200-1803315600@missoulacd.org
SUMMARY:310 Permit Application Site Inspection Deadline
DESCRIPTION:
URL:https://missoulacd.org/event/310-permit-application-site-inspection-deadline/2027-02-22/
END:VEVENT
BEGIN:VEVENT
DTSTART;TZID=America/Denver:20270301T080000
DTEND;TZID=America/Denver:20270301T170000
DTSTAMP:20260423T062942
CREATED:20240305T211457Z
LAST-MODIFIED:20240305T211457Z
UID:10000170-1803888000-1803920400@missoulacd.org
SUMMARY:Monthly Board Meeting Agenda Deadline
DESCRIPTION:
URL:https://missoulacd.org/event/monthly-board-meeting-agenda-deadline/2027-03-01/
END:VEVENT
BEGIN:VEVENT
DTSTART;TZID=America/Denver:20270308T173000
DTEND;TZID=America/Denver:20270308T213000
DTSTAMP:20260423T062942
CREATED:20240222T003546Z
LAST-MODIFIED:20240222T003634Z
UID:10000101-1804527000-1804541400@missoulacd.org
SUMMARY:Monthly Board Meeting - NEW TIME
DESCRIPTION:The Missoula Conservation District Board normally meets the second Monday of the month. Beginning on March 11\, 2024\, the Board meetings will begin at 5:30pm.
URL:https://missoulacd.org/event/monthly-board-meeting-2/2027-03-08/
LOCATION:Clover Board Room in G. Marks Exploration Center\, 1075 South Ave. W\, Missoula\, MT\, 59801
END:VEVENT
BEGIN:VEVENT
DTSTART;TZID=America/Denver:20270322T080000
DTEND;TZID=America/Denver:20270322T170000
DTSTAMP:20260423T062942
CREATED:20240305T211842Z
LAST-MODIFIED:20240305T211842Z
UID:10000231-1805702400-1805734800@missoulacd.org
SUMMARY:310 Permit Application Site Inspection Deadline
DESCRIPTION:
URL:https://missoulacd.org/event/310-permit-application-site-inspection-deadline/2027-03-22/
END:VEVENT
BEGIN:VEVENT
DTSTART;TZID=America/Denver:20270405T080000
DTEND;TZID=America/Denver:20270405T170000
DTSTAMP:20260423T062942
CREATED:20240305T211457Z
LAST-MODIFIED:20240305T211457Z
UID:10000171-1806912000-1806944400@missoulacd.org
SUMMARY:Monthly Board Meeting Agenda Deadline
DESCRIPTION:
URL:https://missoulacd.org/event/monthly-board-meeting-agenda-deadline/2027-04-05/
END:VEVENT
BEGIN:VEVENT
DTSTART;TZID=America/Denver:20270412T173000
DTEND;TZID=America/Denver:20270412T213000
DTSTAMP:20260423T062942
CREATED:20240222T003546Z
LAST-MODIFIED:20240222T003634Z
UID:10000102-1807551000-1807565400@missoulacd.org
SUMMARY:Monthly Board Meeting - NEW TIME
DESCRIPTION:The Missoula Conservation District Board normally meets the second Monday of the month. Beginning on March 11\, 2024\, the Board meetings will begin at 5:30pm.
URL:https://missoulacd.org/event/monthly-board-meeting-2/2027-04-12/
LOCATION:Clover Board Room in G. Marks Exploration Center\, 1075 South Ave. W\, Missoula\, MT\, 59801
END:VEVENT
BEGIN:VEVENT
DTSTART;TZID=America/Denver:20270426T080000
DTEND;TZID=America/Denver:20270426T170000
DTSTAMP:20260423T062942
CREATED:20240305T211842Z
LAST-MODIFIED:20240305T211842Z
UID:10000232-1808726400-1808758800@missoulacd.org
SUMMARY:310 Permit Application Site Inspection Deadline
DESCRIPTION:
URL:https://missoulacd.org/event/310-permit-application-site-inspection-deadline/2027-04-26/
END:VEVENT
BEGIN:VEVENT
DTSTART;TZID=America/Denver:20270503T080000
DTEND;TZID=America/Denver:20270503T170000
DTSTAMP:20260423T062942
CREATED:20240305T211457Z
LAST-MODIFIED:20240305T211457Z
UID:10000172-1809331200-1809363600@missoulacd.org
SUMMARY:Monthly Board Meeting Agenda Deadline
DESCRIPTION:
URL:https://missoulacd.org/event/monthly-board-meeting-agenda-deadline/2027-05-03/
END:VEVENT
BEGIN:VEVENT
DTSTART;TZID=America/Denver:20270510T173000
DTEND;TZID=America/Denver:20270510T213000
DTSTAMP:20260423T062942
CREATED:20240222T003546Z
LAST-MODIFIED:20240222T003634Z
UID:10000103-1809970200-1809984600@missoulacd.org
SUMMARY:Monthly Board Meeting - NEW TIME
DESCRIPTION:The Missoula Conservation District Board normally meets the second Monday of the month. Beginning on March 11\, 2024\, the Board meetings will begin at 5:30pm.
URL:https://missoulacd.org/event/monthly-board-meeting-2/2027-05-10/
LOCATION:Clover Board Room in G. Marks Exploration Center\, 1075 South Ave. W\, Missoula\, MT\, 59801
END:VEVENT
BEGIN:VEVENT
DTSTART;TZID=America/Denver:20270524T080000
DTEND;TZID=America/Denver:20270524T170000
DTSTAMP:20260423T062942
CREATED:20240305T211842Z
LAST-MODIFIED:20240305T211842Z
UID:10000233-1811145600-1811178000@missoulacd.org
SUMMARY:310 Permit Application Site Inspection Deadline
DESCRIPTION:
URL:https://missoulacd.org/event/310-permit-application-site-inspection-deadline/2027-05-24/
END:VEVENT
BEGIN:VEVENT
DTSTART;TZID=America/Denver:20270607T080000
DTEND;TZID=America/Denver:20270607T170000
DTSTAMP:20260423T062942
CREATED:20240305T211457Z
LAST-MODIFIED:20240305T211457Z
UID:10000173-1812355200-1812387600@missoulacd.org
SUMMARY:Monthly Board Meeting Agenda Deadline
DESCRIPTION:
URL:https://missoulacd.org/event/monthly-board-meeting-agenda-deadline/2027-06-07/
END:VEVENT
BEGIN:VEVENT
DTSTART;TZID=America/Denver:20270614T173000
DTEND;TZID=America/Denver:20270614T213000
DTSTAMP:20260423T062942
CREATED:20240222T003546Z
LAST-MODIFIED:20240222T003634Z
UID:10000104-1812994200-1813008600@missoulacd.org
SUMMARY:Monthly Board Meeting - NEW TIME
DESCRIPTION:The Missoula Conservation District Board normally meets the second Monday of the month. Beginning on March 11\, 2024\, the Board meetings will begin at 5:30pm.
URL:https://missoulacd.org/event/monthly-board-meeting-2/2027-06-14/
LOCATION:Clover Board Room in G. Marks Exploration Center\, 1075 South Ave. W\, Missoula\, MT\, 59801
END:VEVENT
BEGIN:VEVENT
DTSTART;TZID=America/Denver:20270628T080000
DTEND;TZID=America/Denver:20270628T170000
DTSTAMP:20260423T062942
CREATED:20240305T211842Z
LAST-MODIFIED:20240305T211842Z
UID:10000234-1814169600-1814202000@missoulacd.org
SUMMARY:310 Permit Application Site Inspection Deadline
DESCRIPTION:
URL:https://missoulacd.org/event/310-permit-application-site-inspection-deadline/2027-06-28/
END:VEVENT
BEGIN:VEVENT
DTSTART;TZID=America/Denver:20270705T080000
DTEND;TZID=America/Denver:20270705T170000
DTSTAMP:20260423T062942
CREATED:20240305T211457Z
LAST-MODIFIED:20240305T211457Z
UID:10000174-1814774400-1814806800@missoulacd.org
SUMMARY:Monthly Board Meeting Agenda Deadline
DESCRIPTION:
URL:https://missoulacd.org/event/monthly-board-meeting-agenda-deadline/2027-07-05/
END:VEVENT
BEGIN:VEVENT
DTSTART;TZID=America/Denver:20270712T173000
DTEND;TZID=America/Denver:20270712T213000
DTSTAMP:20260423T062942
CREATED:20240222T003546Z
LAST-MODIFIED:20240222T003634Z
UID:10000105-1815413400-1815427800@missoulacd.org
SUMMARY:Monthly Board Meeting - NEW TIME
DESCRIPTION:The Missoula Conservation District Board normally meets the second Monday of the month. Beginning on March 11\, 2024\, the Board meetings will begin at 5:30pm.
URL:https://missoulacd.org/event/monthly-board-meeting-2/2027-07-12/
LOCATION:Clover Board Room in G. Marks Exploration Center\, 1075 South Ave. W\, Missoula\, MT\, 59801
END:VEVENT
BEGIN:VEVENT
DTSTART;TZID=America/Denver:20270726T080000
DTEND;TZID=America/Denver:20270726T170000
DTSTAMP:20260423T062942
CREATED:20240305T211842Z
LAST-MODIFIED:20240305T211842Z
UID:10000235-1816588800-1816621200@missoulacd.org
SUMMARY:310 Permit Application Site Inspection Deadline
DESCRIPTION:
URL:https://missoulacd.org/event/310-permit-application-site-inspection-deadline/2027-07-26/
END:VEVENT
BEGIN:VEVENT
DTSTART;TZID=America/Denver:20270802T080000
DTEND;TZID=America/Denver:20270802T170000
DTSTAMP:20260423T062942
CREATED:20240305T211457Z
LAST-MODIFIED:20240305T211457Z
UID:10000175-1817193600-1817226000@missoulacd.org
SUMMARY:Monthly Board Meeting Agenda Deadline
DESCRIPTION:
URL:https://missoulacd.org/event/monthly-board-meeting-agenda-deadline/2027-08-02/
END:VEVENT
BEGIN:VEVENT
DTSTART;TZID=America/Denver:20270809T173000
DTEND;TZID=America/Denver:20270809T213000
DTSTAMP:20260423T062942
CREATED:20240222T003546Z
LAST-MODIFIED:20240222T003634Z
UID:10000106-1817832600-1817847000@missoulacd.org
SUMMARY:Monthly Board Meeting - NEW TIME
DESCRIPTION:The Missoula Conservation District Board normally meets the second Monday of the month. Beginning on March 11\, 2024\, the Board meetings will begin at 5:30pm.
URL:https://missoulacd.org/event/monthly-board-meeting-2/2027-08-09/
LOCATION:Clover Board Room in G. Marks Exploration Center\, 1075 South Ave. W\, Missoula\, MT\, 59801
END:VEVENT
BEGIN:VEVENT
DTSTART;TZID=America/Denver:20270823T080000
DTEND;TZID=America/Denver:20270823T170000
DTSTAMP:20260423T062942
CREATED:20240305T211842Z
LAST-MODIFIED:20240305T211842Z
UID:10000236-1819008000-1819040400@missoulacd.org
SUMMARY:310 Permit Application Site Inspection Deadline
DESCRIPTION:
URL:https://missoulacd.org/event/310-permit-application-site-inspection-deadline/2027-08-23/
END:VEVENT
END:VCALENDAR